BEGIN:VCALENDAR
VERSION:2.0
PRODID:icalendar-ruby
CALSCALE:GREGORIAN
METHOD:PUBLISH
BEGIN:VEVENT
DTSTAMP:20260421T082320Z
UID:22-326884@christumc.info
DTSTART:20260430T160000Z
DTEND:20260430T180000Z
CLASS:PUBLIC
CREATED:20260408T103607
DESCRIPTION:Join us for a ladies luncheon and bread art making class! We wi
 ll be designing our own edible art with veggies\, and bread dough! Cost is
  $25 per person and includes lunch and your very own edible bread art to t
 ake home with you!
LAST-MODIFIED:20260408T103607
LOCATION:Christ UMC
SUMMARY:Ladies Luncheon & Activity
URL;VALUE=URI:https://www.christumc.info/events/ladies-luncheon-activity/20
 26-04-30
ATTACH;FILENAME=12.png;FMTTYPE=image/png:https://dq5pwpg1q8ru0.cloudfront.n
 et/2026/04/08/14/36/06/86118481-45a7-4b24-a9c4-f65f85ddd38c/12.png
END:VEVENT
END:VCALENDAR
